BEGIN:VCALENDAR
VERSION:2.0
PRODID:-//Washoe Education Association - ECPv6.15.17.1//NONSGML v1.0//EN
CALSCALE:GREGORIAN
METHOD:PUBLISH
X-WR-CALNAME:Washoe Education Association
X-ORIGINAL-URL:https://www.weatoday.org
X-WR-CALDESC:Events for Washoe Education Association
REFRESH-INTERVAL;VALUE=DURATION:PT1H
X-Robots-Tag:noindex
X-PUBLISHED-TTL:PT1H
BEGIN:VTIMEZONE
TZID:UTC
BEGIN:STANDARD
TZOFFSETFROM:+0000
TZOFFSETTO:+0000
TZNAME:UTC
DTSTART:20240101T000000
END:STANDARD
END:VTIMEZONE
BEGIN:VEVENT
DTSTART;TZID=UTC:20250205T163000
DTEND;TZID=UTC:20250205T183000
DTSTAMP:20260422T042355
CREATED:20240918T005235Z
LAST-MODIFIED:20240918T005235Z
UID:72319-1738773000-1738780200@www.weatoday.org
SUMMARY:February WEA Rep Council
DESCRIPTION:
URL:https://www.weatoday.org/event/february-wea-rep-council/
LOCATION:NV
END:VEVENT
END:VCALENDAR