BEGIN:VCALENDAR
VERSION:2.0
PRODID:-//Washoe Education Association - ECPv6.15.17.1//NONSGML v1.0//EN
CALSCALE:GREGORIAN
METHOD:PUBLISH
X-WR-CALNAME:Washoe Education Association
X-ORIGINAL-URL:https://www.weatoday.org
X-WR-CALDESC:Events for Washoe Education Association
REFRESH-INTERVAL;VALUE=DURATION:PT1H
X-Robots-Tag:noindex
X-PUBLISHED-TTL:PT1H
BEGIN:VTIMEZONE
TZID:UTC
BEGIN:STANDARD
TZOFFSETFROM:+0000
TZOFFSETTO:+0000
TZNAME:UTC
DTSTART:20230101T000000
END:STANDARD
END:VTIMEZONE
BEGIN:VEVENT
DTSTART;VALUE=DATE:20240401
DTEND;VALUE=DATE:20240406
DTSTAMP:20260422T152716
CREATED:20240321T035819Z
LAST-MODIFIED:20240321T035819Z
UID:71734-1711929600-1712361599@www.weatoday.org
SUMMARY:Spring Break
DESCRIPTION:The WEA Office will be closed for the second week of Spring Break.
URL:https://www.weatoday.org/event/spring-break/
LOCATION:NV
END:VEVENT
END:VCALENDAR