BEGIN:VCALENDAR
VERSION:2.0
PRODID:-//Washoe Education Association - ECPv6.15.17.1//NONSGML v1.0//EN
CALSCALE:GREGORIAN
METHOD:PUBLISH
X-WR-CALNAME:Washoe Education Association
X-ORIGINAL-URL:https://www.weatoday.org
X-WR-CALDESC:Events for Washoe Education Association
REFRESH-INTERVAL;VALUE=DURATION:PT1H
X-Robots-Tag:noindex
X-PUBLISHED-TTL:PT1H
BEGIN:VTIMEZONE
TZID:UTC
BEGIN:STANDARD
TZOFFSETFROM:+0000
TZOFFSETTO:+0000
TZNAME:UTC
DTSTART:20240101T000000
END:STANDARD
END:VTIMEZONE
BEGIN:VTIMEZONE
TZID:Asia/Krasnoyarsk
BEGIN:STANDARD
TZOFFSETFROM:+0700
TZOFFSETTO:+0700
TZNAME:+07
DTSTART:20250101T000000
END:STANDARD
END:VTIMEZONE
BEGIN:VEVENT
DTSTART;TZID=UTC:20250402T163000
DTEND;TZID=UTC:20250402T183000
DTSTAMP:20260422T152256
CREATED:20240918T005425Z
LAST-MODIFIED:20240918T005425Z
UID:72323-1743611400-1743618600@www.weatoday.org
SUMMARY:April WEA Rep Council
DESCRIPTION:
URL:https://www.weatoday.org/event/april-wea-rep-council/
LOCATION:NV
END:VEVENT
BEGIN:VEVENT
DTSTART;TZID=UTC:20250507T163000
DTEND;TZID=UTC:20250507T183000
DTSTAMP:20260422T152256
CREATED:20240918T005523Z
LAST-MODIFIED:20240918T005523Z
UID:72325-1746635400-1746642600@www.weatoday.org
SUMMARY:May WEA Rep Council
DESCRIPTION:
URL:https://www.weatoday.org/event/may-wea-rep-council/
LOCATION:NV
END:VEVENT
BEGIN:VEVENT
DTSTART;TZID=UTC:20250530T180000
DTEND;TZID=UTC:20250530T220000
DTSTAMP:20260422T152256
CREATED:20250306T042330Z
LAST-MODIFIED:20250424T015225Z
UID:72363-1748628000-1748642400@www.weatoday.org
SUMMARY:2025 WEA Awards Banquet
DESCRIPTION:May 30th\, 2025 Atlantis Casino and Resort\, Paradise Room\nJoin us in celebrating our 2025 award winners\, retirees\, and National Board Certification recipients \nEarly Bird Price: $45\nMarch 5th- April 25th \nRegular Ticket Price: $50\nApril 26- May 16th \nLAST DAY TO RSVP AND TO PURCHASE TICKETS WILL BE FRIDAY\, MAY 16 AT 4:00PM
URL:https://www.weatoday.org/event/2025-wea-awards-banquet/
LOCATION:Atlantis Casino\, 3800 S Virginia St\, Reno\, NV\, 89502\, United States
END:VEVENT
BEGIN:VEVENT
DTSTART;TZID=UTC:20250906T100000
DTEND;TZID=UTC:20250906T180000
DTSTAMP:20260422T152256
CREATED:20250804T225504Z
LAST-MODIFIED:20250815T053508Z
UID:72684-1757152800-1757181600@www.weatoday.org
SUMMARY:2025 Wild Island Picnic
DESCRIPTION:
URL:https://www.weatoday.org/event/2025-wild-island-picnic/
LOCATION:Wild Island\, 250 Wild Island Ct\, Sparks\, NV\, 89434\, United States
END:VEVENT
BEGIN:VEVENT
DTSTART;TZID=Asia/Krasnoyarsk:20260529T180000
DTEND;TZID=Asia/Krasnoyarsk:20260529T230000
DTSTAMP:20260422T152256
CREATED:20260313T031846Z
LAST-MODIFIED:20260407T181934Z
UID:73193-1780077600-1780095600@www.weatoday.org
SUMMARY:2026 WEA Awards Banquet
DESCRIPTION: 
URL:https://www.weatoday.org/event/2026-wea-awards-banquet/
LOCATION:Atlantis Casino\, 3800 S Virginia St\, Reno\, NV\, 89502\, United States
END:VEVENT
END:VCALENDAR